BEGIN:VCALENDAR
VERSION:2.0
PRODID:-//선덕사 - ECPv6.0.1.1//NONSGML v1.0//EN
CALSCALE:GREGORIAN
METHOD:PUBLISH
X-WR-CALNAME:선덕사
X-ORIGINAL-URL:http://sunduksa.kr
X-WR-CALDESC:Events for 선덕사
REFRESH-INTERVAL;VALUE=DURATION:PT1H
X-Robots-Tag:noindex
X-PUBLISHED-TTL:PT1H
BEGIN:VTIMEZONE
TZID:Asia/Seoul
BEGIN:STANDARD
TZOFFSETFROM:+0900
TZOFFSETTO:+0900
TZNAME:KST
DTSTART:20230101T000000
END:STANDARD
END:VTIMEZONE
BEGIN:VEVENT
DTSTART;VALUE=DATE:20230916
DTEND;VALUE=DATE:20230917
DTSTAMP:20260421T024655
CREATED:20230406T150213Z
LAST-MODIFIED:20230406T150213Z
UID:1770-1694822400-1694908799@sunduksa.kr
SUMMARY:모다들엉배워봅주
DESCRIPTION:
URL:http://sunduksa.kr/event/%eb%aa%a8%eb%8b%a4%eb%93%a4%ec%97%89%eb%b0%b0%ec%9b%8c%eb%b4%85%ec%a3%bc-4/
LOCATION:선덕사
CATEGORIES:선덕사 행사달력
END:VEVENT
END:VCALENDAR